BEGIN:VCALENDAR
VERSION:2.0
PRODID:-//CAEN Educational - ECPv6.15.11//NONSGML v1.0//EN
CALSCALE:GREGORIAN
METHOD:PUBLISH
X-WR-CALNAME:CAEN Educational
X-ORIGINAL-URL:https://edu.caen.it
X-WR-CALDESC:Events for CAEN Educational
REFRESH-INTERVAL;VALUE=DURATION:PT1H
X-Robots-Tag:noindex
X-PUBLISHED-TTL:PT1H
BEGIN:VTIMEZONE
TZID:Europe/Rome
BEGIN:DAYLIGHT
TZOFFSETFROM:+0100
TZOFFSETTO:+0200
TZNAME:CEST
DTSTART:20250330T010000
END:DAYLIGHT
BEGIN:STANDARD
TZOFFSETFROM:+0200
TZOFFSETTO:+0100
TZNAME:CET
DTSTART:20251026T010000
END:STANDARD
BEGIN:DAYLIGHT
TZOFFSETFROM:+0100
TZOFFSETTO:+0200
TZNAME:CEST
DTSTART:20260329T010000
END:DAYLIGHT
BEGIN:STANDARD
TZOFFSETFROM:+0200
TZOFFSETTO:+0100
TZNAME:CET
DTSTART:20261025T010000
END:STANDARD
BEGIN:DAYLIGHT
TZOFFSETFROM:+0100
TZOFFSETTO:+0200
TZNAME:CEST
DTSTART:20270328T010000
END:DAYLIGHT
BEGIN:STANDARD
TZOFFSETFROM:+0200
TZOFFSETTO:+0100
TZNAME:CET
DTSTART:20271031T010000
END:STANDARD
END:VTIMEZONE
BEGIN:VEVENT
DTSTART;VALUE=DATE:20260302
DTEND;VALUE=DATE:20260304
DTSTAMP:20260421T102913
CREATED:20260120T140815Z
LAST-MODIFIED:20260121T084743Z
UID:13341-1772409600-1772582399@edu.caen.it
SUMMARY:CAEN Winter School 2026
DESCRIPTION:In partnership with IMSci-Nu (Instrumentation and Measurement Science for Major Nuclear Research Facilities) School\, CAEN S.p.A. is pleased to announce the organization of a Winter School.\nThe program will encompass both theoretical courses and hands-on demonstrations centered around the utilization of radiation detectors and nuclear measurement techniques across diverse fields.\nThe program aims to equip participants with a thorough comprehension of these principles and their practical applications\, utilizing cutting-edge nuclear instrumentation equipment.
URL:https://edu.caen.it/event/caen-winter-school-2026/
LOCATION:CAEN SpA – Headquarter\, Via della Vetraia 11\, Viareggio\, LU\, 55049\, Italy
CATEGORIES:Educational
ATTACH;FMTTYPE=image/jpeg:https://edu.caen.it/wp-content/uploads/2026/01/caenwinterschool26_resized.jpeg
END:VEVENT
BEGIN:VEVENT
DTSTART;VALUE=DATE:20260411
DTEND;VALUE=DATE:20260417
DTSTAMP:20260421T102913
CREATED:20260223T113901Z
LAST-MODIFIED:20260223T115913Z
UID:13469-1775865600-1776383999@edu.caen.it
SUMMARY:CAEN Academy Tour India 2026 – 2nd Generation Digitizers and Sci-Compiler Hands-On Training
DESCRIPTION:The CAEN Academy Tour – India Edition is a hands-on training event organized by CAEN India\, focused on introducing the new 2nd Generation CAEN Digitizers and the Sci-Compiler development framework. \nThis intensive training program combines technical presentations\, live demonstrations\, and practical laboratory sessions. Participants will explore the architecture\, features\, and advantages of the CAEN x2740\, x2745\, x2730\, and x2751 digitizer series\, specifically designed for advanced real-time digital signal processing applications. \nThe event will provide a comprehensive overview of the Sci-Compiler graphical environment\, demonstrating how FPGA firmware can be developed without writing HDL code. Through block-diagram design and automated VHDL generation\, attendees will learn how to rapidly implement and deploy custom digital processing algorithms on CAEN hardware platforms. \nA central part of the training is the practical hands-on session using the CAEN SMART evaluation kit. Each participant will work directly with their own PC and hardware setup to build\, compile\, upload\, and test real data acquisition firmware within minutes. Practical exercises will include implementing oscilloscope functions\, scalers\, charge integration\, pulse shape discrimination (PSD)\, and deploying firmware directly onto CAEN digitizer boards. Participants will also gain experience using the CAEN SciSDK Python and C++ tools for system control and data readout. \nThe training includes access to the CAEN SMART Kit during the session\, example projects\, technical materials\, and direct support from CAEN R&D specialists. \nThe CAEN Academy Tour in India will take place in: \n– Mumbai: Saturday April 11thOasis Banquets\, Vidhyarthi Marg\, Chembur \n– Delhi: Monday April 13thInter University Accelerator Center (IUAC) \n– Kolkata: Thursday April 16thBose Institute \nThe program is intended for researchers\, engineers\, PhD students\, and professionals working in nuclear instrumentation\, radiation detection\, digital signal processing\, and FPGA-based data acquisition systems who wish to deepen their expertise in modern digitizer technologies and firmware development workflows. \nDownload Poster 
URL:https://edu.caen.it/event/caen-academy-tour-india-edition-2026/
LOCATION:Mumbai\, Oasis Banquets\, Vidhyarthi Marg\, Chembur\, Maharashtra\, 400088\, India
CATEGORIES:Educational,International
ATTACH;FMTTYPE=image/jpeg:https://edu.caen.it/wp-content/uploads/2026/02/caen-edu-india-tour-fpga-digitizer-sci-compiler.jpg
ORGANIZER;CN="CAEN India":MAILTO:info@caen-india.in
END:VEVENT
BEGIN:VEVENT
DTSTART;VALUE=DATE:20260720
DTEND;VALUE=DATE:20260725
DTSTAMP:20260421T102913
CREATED:20260120T140944Z
LAST-MODIFIED:20260121T084817Z
UID:13344-1784505600-1784937599@edu.caen.it
SUMMARY:CAEN Summer School 2026
DESCRIPTION:The 5th International Summer School on Open FPGA for Nuclear and Scientific Applications will be held at the CAEN S.p.A. Headquarters from July 20 to July 24\, 2026. \nThe program is structured around a balanced combination of theoretical lectures and hands-on laboratory sessions. It will start with the study of front-end electronics algorithms\, including digital signal processing techniques commonly used in scientific and nuclear instrumentation\, and an introduction to modern digitizers and FPGA-based systems.\nBuilding on this theoretical background\, the school will progressively focus on practical FPGA development using the SCI Compiler framework (https://www.sci-compiler.com/)\, guiding participants through the complete workflow of designing\, implementing\, and testing firmware for real-time data acquisition and processing.\nDuring the hands-on sessions\, each participant will be provided with their own experimental setup\, allowing them to directly apply the concepts learned during the lectures. Students will develop complete processing chains—from signal acquisition and filtering to triggering\, feature extraction\, and data readout—while gaining practical experience in modular FPGA design\, debugging\, and performance optimization. \nThe school is targeted at students holding at least a Bachelor’s degree in Physics\, Nuclear Engineering\, or related fields\, and is also open to PhD students and young professionals from industry who wish to deepen their expertise in FPGA programming and data acquisition systems.
URL:https://edu.caen.it/event/caen-summer-school-2026/
LOCATION:CAEN SpA – Headquarter\, Via della Vetraia 11\, Viareggio\, LU\, 55049\, Italy
CATEGORIES:Educational
ATTACH;FMTTYPE=image/png:https://edu.caen.it/wp-content/uploads/2026/01/caensummerschool26_resized.png
END:VEVENT
END:VCALENDAR