BEGIN:VCALENDAR
VERSION:2.0
PRODID:-//CAEN Educational - ECPv6.15.11//NONSGML v1.0//EN
CALSCALE:GREGORIAN
METHOD:PUBLISH
X-WR-CALNAME:CAEN Educational
X-ORIGINAL-URL:https://edu.caen.it
X-WR-CALDESC:Events for CAEN Educational
REFRESH-INTERVAL;VALUE=DURATION:PT1H
X-Robots-Tag:noindex
X-PUBLISHED-TTL:PT1H
BEGIN:VTIMEZONE
TZID:Europe/Rome
BEGIN:DAYLIGHT
TZOFFSETFROM:+0100
TZOFFSETTO:+0200
TZNAME:CEST
DTSTART:20160327T010000
END:DAYLIGHT
BEGIN:STANDARD
TZOFFSETFROM:+0200
TZOFFSETTO:+0100
TZNAME:CET
DTSTART:20161030T010000
END:STANDARD
BEGIN:DAYLIGHT
TZOFFSETFROM:+0100
TZOFFSETTO:+0200
TZNAME:CEST
DTSTART:20170326T010000
END:DAYLIGHT
BEGIN:STANDARD
TZOFFSETFROM:+0200
TZOFFSETTO:+0100
TZNAME:CET
DTSTART:20171029T010000
END:STANDARD
BEGIN:DAYLIGHT
TZOFFSETFROM:+0100
TZOFFSETTO:+0200
TZNAME:CEST
DTSTART:20180325T010000
END:DAYLIGHT
BEGIN:STANDARD
TZOFFSETFROM:+0200
TZOFFSETTO:+0100
TZNAME:CET
DTSTART:20181028T010000
END:STANDARD
BEGIN:DAYLIGHT
TZOFFSETFROM:+0100
TZOFFSETTO:+0200
TZNAME:CEST
DTSTART:20190331T010000
END:DAYLIGHT
BEGIN:STANDARD
TZOFFSETFROM:+0200
TZOFFSETTO:+0100
TZNAME:CET
DTSTART:20191027T010000
END:STANDARD
BEGIN:DAYLIGHT
TZOFFSETFROM:+0100
TZOFFSETTO:+0200
TZNAME:CEST
DTSTART:20200329T010000
END:DAYLIGHT
BEGIN:STANDARD
TZOFFSETFROM:+0200
TZOFFSETTO:+0100
TZNAME:CET
DTSTART:20201025T010000
END:STANDARD
BEGIN:DAYLIGHT
TZOFFSETFROM:+0100
TZOFFSETTO:+0200
TZNAME:CEST
DTSTART:20210328T010000
END:DAYLIGHT
BEGIN:STANDARD
TZOFFSETFROM:+0200
TZOFFSETTO:+0100
TZNAME:CET
DTSTART:20211031T010000
END:STANDARD
BEGIN:DAYLIGHT
TZOFFSETFROM:+0100
TZOFFSETTO:+0200
TZNAME:CEST
DTSTART:20220327T010000
END:DAYLIGHT
BEGIN:STANDARD
TZOFFSETFROM:+0200
TZOFFSETTO:+0100
TZNAME:CET
DTSTART:20221030T010000
END:STANDARD
BEGIN:DAYLIGHT
TZOFFSETFROM:+0100
TZOFFSETTO:+0200
TZNAME:CEST
DTSTART:20230326T010000
END:DAYLIGHT
BEGIN:STANDARD
TZOFFSETFROM:+0200
TZOFFSETTO:+0100
TZNAME:CET
DTSTART:20231029T010000
END:STANDARD
BEGIN:DAYLIGHT
TZOFFSETFROM:+0100
TZOFFSETTO:+0200
TZNAME:CEST
DTSTART:20240331T010000
END:DAYLIGHT
BEGIN:STANDARD
TZOFFSETFROM:+0200
TZOFFSETTO:+0100
TZNAME:CET
DTSTART:20241027T010000
END:STANDARD
BEGIN:DAYLIGHT
TZOFFSETFROM:+0100
TZOFFSETTO:+0200
TZNAME:CEST
DTSTART:20250330T010000
END:DAYLIGHT
BEGIN:STANDARD
TZOFFSETFROM:+0200
TZOFFSETTO:+0100
TZNAME:CET
DTSTART:20251026T010000
END:STANDARD
END:VTIMEZONE
BEGIN:VEVENT
DTSTART;VALUE=DATE:20240617
DTEND;VALUE=DATE:20240622
DTSTAMP:20260421T133347
CREATED:20240617T133456Z
LAST-MODIFIED:20240617T133727Z
UID:11358-1718582400-1719014399@edu.caen.it
SUMMARY:13th CRIS-MAC 2024 Cosmic-Ray International Conference
DESCRIPTION:We will participate in the 13th CRIS-MAC 2024 Conference\, held in Trapani from June 17 to 21\, 2024. This event is organized by several prestigious institutions\, including the University of Catania\, the University of Palermo\, the University of Napoli Federico II\, and the National Institute of Nuclear Physics. The conference will focus on multi-messenger aspects of astroparticle physics\, encompassing fields like cosmic-ray physics\, gamma-ray and multi-wavelength astronomy\, astrophysical neutrinos\, and gravitational waves.
URL:https://edu.caen.it/event/13th-cris-mac-2024-cosmic-ray-international-studies-and-multi-messenger-astroparticle-conference/
LOCATION:Principe di Napoli\, Trapani\, via Cappuccini n. 7\, Trapani\, TP\, 91100\, Italy
CATEGORIES:Educational
ATTACH;FMTTYPE=image/jpeg:https://edu.caen.it/wp-content/uploads/2024/06/trp_w.jpg
END:VEVENT
BEGIN:VEVENT
DTSTART;VALUE=DATE:20240225
DTEND;VALUE=DATE:20240229
DTSTAMP:20260421T133347
CREATED:20240219T162241Z
LAST-MODIFIED:20240219T165034Z
UID:11271-1708819200-1709164799@edu.caen.it
SUMMARY:CAEN Winter school 2024
DESCRIPTION:CAEN S.p.A.\, in partnership with IMSci-Nu School\, is excited to announce a Winter School program. This event will blend theoretical courses with hands-on demonstrations\, focusing on the use of radiation detectors and nuclear measurement techniques in various fields.\n\nThe goal is to provide participants with deep understanding and practical skills using the latest nuclear instrumentation equipment.
URL:https://edu.caen.it/event/caen-winter-school-2024/
LOCATION:CAEN SpA – Headquarter\, Via della Vetraia 11\, Viareggio\, LU\, 55049\, Italy
CATEGORIES:Educational
ATTACH;FMTTYPE=image/jpeg:https://edu.caen.it/wp-content/uploads/2024/02/caen_winter_school_edu_w.jpg
END:VEVENT
BEGIN:VEVENT
DTSTART;VALUE=DATE:20240115
DTEND;VALUE=DATE:20240120
DTSTAMP:20260421T133347
CREATED:20240201T162100Z
LAST-MODIFIED:20240201T162100Z
UID:11266-1705276800-1705708799@edu.caen.it
SUMMARY:4th School for Particle Detectors and Applications at KNU (SPDAK2024)
DESCRIPTION:The “4th School for Particle Detectors and Applications at KNU (SPDAK2024)” is an upcoming event hosted by the High Energy Physics Institute of Kyungpook National University\, Center for High Energy Physics. The program is designed to educate participants on configuring a Data Acquisition System (DAQ) with particle detectors for data collection. A key focus will be on measuring particle detector efficiency\, energy calibration\, energy resolution\, and time resolution. \nNotably\, the event will feature lectures and hands-on sessions led by Dr. Sangyeol Kim from Korea and Dr. Massimo Venaruzzo from CAEN\, Italy. They will provide in-depth insights into the DAQ systems offered by their respective companies.
URL:https://edu.caen.it/event/4th-school-for-particle-detectors-and-applications-at-knu-spdak2024/
LOCATION:Kyungpook National University\, 80 Daehak-ro\, Buk-gu\, Daeugu\, South Korea
CATEGORIES:Educational
ATTACH;FMTTYPE=image/jpeg:https://edu.caen.it/wp-content/uploads/2024/02/spdak2024w.jpg
END:VEVENT
BEGIN:VEVENT
DTSTART;VALUE=DATE:20230927
DTEND;VALUE=DATE:20230930
DTSTAMP:20260421T133347
CREATED:20230315T154744Z
LAST-MODIFIED:20230315T154744Z
UID:11025-1695772800-1696031999@edu.caen.it
SUMMARY:PLT2023 - University of Oldenburg
DESCRIPTION:CAEN will partecipate to the annual nationwide internship manager conference PLT2023 @ Institute of Physics at the Carl von Ossietzky University of Oldenburg. These days will be dedicated to workshops and lessons for physics students. More information here. \nThe PLT 2023 will take place on the Wechloy campus (Carl-von-Ossietzky-Str. 9-11; 26129 Oldenburg).
URL:https://edu.caen.it/event/plt2023-university-of-oldenburg/
LOCATION:University of Oldenburg\, Ammerländer Heerstraße 114\, Oldenburg\, 26129
CATEGORIES:Educational
END:VEVENT
BEGIN:VEVENT
DTSTART;VALUE=DATE:20230926
DTEND;VALUE=DATE:20230930
DTSTAMP:20260421T133347
CREATED:20230522T101033Z
LAST-MODIFIED:20230522T101120Z
UID:11122-1695686400-1696031999@edu.caen.it
SUMMARY:IMAGING 2023
DESCRIPTION:Imaging has become an indispensable investigative tool in various scientific domains\, encompassing X-ray\, neutron\, and nuclear medicine imaging. By leveraging advanced image reconstruction and analysis techniques\, including artificial intelligence-based approaches\, it allows for the acquisition of planar and 3D information regarding the internal morphological\, chemical\, and functional characteristics of samples. This holds true for fields such as Medicine\, Biology\, and Cultural Heritage. \nThe workshop aims to identify shared methodologies spanning different research fields\, techniques\, and scales. Key topics to be discussed include technical approaches to imaging modalities\, multi-parametric molecular imaging\, imaging for Heritage Science\, imaging for Homeland security\, image formation and processing\, algorithms for image reconstruction and analysis (including AI-based methods)\, and Big Data management. \nThe Conference strongly encourages the participation of young scientists\, and the program will feature invited oral presentations and posters.
URL:https://edu.caen.it/event/imaging-2023/
LOCATION:Villa Monastero\, Varenna\, Viale Giovanni Polvani\, 4\, Varenna\, LC\, 23829\, Italy
END:VEVENT
BEGIN:VEVENT
DTSTART;VALUE=DATE:20230704
DTEND;VALUE=DATE:20230715
DTSTAMP:20260421T133347
CREATED:20230522T100401Z
LAST-MODIFIED:20230522T100553Z
UID:11115-1688428800-1689379199@edu.caen.it
SUMMARY:Multi-Aspect Young-ORiented Advanced Neutrino Academy
DESCRIPTION:The MAYORANA School&Workshop aims to foster collaboration among young and senior researchers in nuclear\, particle\, and astroparticle neutrino physics\, exploring interdisciplinary theories and experiments. Held in Modica\, Italy\, at Palazzo Grimaldi\, the School runs from July 4 to 11\, 2023\, followed by the Workshop on July 12 to 14. \nThe School welcomes 50 participants\, including doctoral students\, post-doctoral fellows\, and young researchers. It features 40 hours of lectures\, poster sessions\, mini-talks\, and face-to-face discussions with professors. Notably\, outstanding mini-talks and posters will receive prizes. Students are encouraged to attend the Workshop\, offering insights into cutting-edge advancements and challenges in neutrino physics.
URL:https://edu.caen.it/event/multi-aspect-young-oriented-advanced-neutrino-academy-mayorana/
LOCATION:Fondazione Grimaldi\, INFN Catania\, Piazza Montesanto\, 25\, Naples\, NA\, 80135\, Italy
END:VEVENT
BEGIN:VEVENT
DTSTART;VALUE=DATE:20230703
DTEND;VALUE=DATE:20230708
DTSTAMP:20260421T133347
CREATED:20230522T100029Z
LAST-MODIFIED:20230705T084628Z
UID:11112-1688342400-1688774399@edu.caen.it
SUMMARY:26ème Congrès Général de la SFP
DESCRIPTION:The 26th General Congress of the SFP took place from July 3 to 7\, 2023 (opening on July 2 at 2 pm with the Congress Before) at the Congress Center of the Cité des Sciences et de l’Industrie in Paris. Unique in France\, the General Congress of the French Physics Society provided\, every two years\, an updated and multidisciplinary overview of the latest advances in physics\, across all fields. \nWe enthusiastically participated at this event!
URL:https://edu.caen.it/event/26eme-congres-general-de-la-sfp/
LOCATION:congress Center of the Cité des Sciences et de l’industrie\, 30 Av. Corentin Cariou\, Paris\, Paris\, 75019\, France
END:VEVENT
BEGIN:VEVENT
DTSTART;VALUE=DATE:20230612
DTEND;VALUE=DATE:20230617
DTSTAMP:20260421T133347
CREATED:20230208T102212Z
LAST-MODIFIED:20230208T102918Z
UID:10894-1686528000-1686959999@edu.caen.it
SUMMARY:ANIMMA 2023 - International Summer School
DESCRIPTION:Starting from the physical principles\, the courses will present a selection of applications of radiation detectors as well as nuclear measurements in various fields\, including a hands-on demonstration session with state-of-the- art nuclear instrumentation equipment.
URL:https://edu.caen.it/event/animma-2023-international-summer-school/
LOCATION:Real Collegio – Lucca\, Piazza del Collegio\, 13\, Lucca\, LU\, 55100\, Italy
CATEGORIES:Educational
END:VEVENT
BEGIN:VEVENT
DTSTART;VALUE=DATE:20230519
DTEND;VALUE=DATE:20230521
DTSTAMP:20260421T133347
CREATED:20230315T153910Z
LAST-MODIFIED:20230522T074858Z
UID:11021-1684454400-1684627199@edu.caen.it
SUMMARY:Young Minds Leadership Meeting - 2023
DESCRIPTION:CAEN will attend to “Young Minds Leadership Meeting” @ Naples (Italy) on 19th – 20th May 2023. More information about the events here. \nEPS Young Minds (YM) is an international project of the European Physical Society\, with the participation of more than 30 countries around the world. The main purpose of YM is: “to boost the creativity of young minds\, setting up a bright\, brave\, creative\, determined\, passionate and focused initiative”.
URL:https://edu.caen.it/event/young-minds-leadership-meeting-2023/
LOCATION:University of Naples Federico II\, C.so Umberto I\, 40\, Naples\, NA\, 80138\, Italy
CATEGORIES:Educational
END:VEVENT
BEGIN:VEVENT
DTSTART;VALUE=DATE:20230420
DTEND;VALUE=DATE:20230421
DTSTAMP:20260421T133347
CREATED:20230419T130200Z
LAST-MODIFIED:20230419T130511Z
UID:11035-1681948800-1682035199@edu.caen.it
SUMMARY:RadioLAB INFN - Environmental Radioactivity: dissemination in middle and high school
DESCRIPTION:ISOradioLAb was born from the decade-long experience gained with students from Ischia and more generally from schools involved throughout the Campania region. The event on April 20th will see the students of classes 5A and 5B of the Scientific High School\, actors of the project\, present their experience and the results obtained. \nThe young researchers of the Naples and Milan Sections\, Giuseppe La Verde and Michele Colucci\, who followed the students both at school and remotely with meetings guiding them in understanding phenomena and analyzing data\, will also report. Professors Paola Dragonetti and Stefania Mercanti of Liceo Majorana in Lampedusa will also intervene and tell their point of view. \nThe event will take place in the presence of Giorgio Chiarelli\, president of INFN’s Third Mission Commission – CC3M and the school principal\, Claudio Argento. The schools in Pantelleria\, Eolie Islands\, San Pietro di Carloforte (Cagliari) will also be connected. The day will end with measurements in the field of radioactivity in different locations in Lampedusa\, guided by Cristina Mattone\, thanks to the contribution of CAEN that sponsors the event. \nThe initiative\, with national coordinators Professor Mariagabriella Pugliese from the Naples section of Infn and Professor Flavia Groppi from the Milan section\, “involves students on the topic of natural environmental radioactivity and\, more specifically\, radon-222 radioactive gas to bring them closer to understanding these issues\,” as highlighted in a note released in Naples.
URL:https://edu.caen.it/event/radiolab-infn-environmental-radioactivity-dissemination-in-middle-and-high-school/
LOCATION:Istituto Omnicomprensivo Luigi Pirandello\, Via Grecale\, Lampedusa\, AG\, 92010
END:VEVENT
BEGIN:VEVENT
DTSTART;VALUE=DATE:20220905
DTEND;VALUE=DATE:20220908
DTSTAMP:20260421T133347
CREATED:20211221T141632Z
LAST-MODIFIED:20211223T095512Z
UID:8532-1662336000-1662595199@edu.caen.it
SUMMARY:Praktikumsleitertagung (PLT 2022) 
DESCRIPTION:
URL:https://edu.caen.it/event/praktikumsleitertagung-plt-2022/
LOCATION:Kiel University\, Kiel\, Germany
CATEGORIES:Educational
END:VEVENT
BEGIN:VEVENT
DTSTART;VALUE=DATE:20220602
DTEND;VALUE=DATE:20220604
DTSTAMP:20260421T133347
CREATED:20230208T104110Z
LAST-MODIFIED:20230208T104110Z
UID:10906-1654128000-1654300799@edu.caen.it
SUMMARY:Young Minds Leadership Meeting 2022
DESCRIPTION:The EPS Young Minds (EPS YM) Programme is an initiative of the European Physical Society to interconnect young researchers in Europe and to promote science to the broad public.\nThe Leadership Meeting (LM) is the annual gathering of the programme\, which brings together delegates from the whole YM network.
URL:https://edu.caen.it/event/young-minds-leadership-meeting-2022/
LOCATION:LU
CATEGORIES:Educational
END:VEVENT
BEGIN:VEVENT
DTSTART;VALUE=DATE:20220501
DTEND;VALUE=DATE:20220502
DTSTAMP:20260421T133347
CREATED:20211217T101442Z
LAST-MODIFIED:20211217T151115Z
UID:8201-1651363200-1651449599@edu.caen.it
SUMMARY:University of Bern - Demos & Training
DESCRIPTION:May 2022 – University of Bern – Demos & Training
URL:https://edu.caen.it/event/university-of-bern-demos-training/
LOCATION:University of Bern\, Bern\, Germany
CATEGORIES:Educational
END:VEVENT
BEGIN:VEVENT
DTSTART;TZID=Europe/Rome:20211130T080000
DTEND;TZID=Europe/Rome:20211202T170000
DTSTAMP:20260421T133347
CREATED:20211217T113815Z
LAST-MODIFIED:20211217T114712Z
UID:8276-1638259200-1638464400@edu.caen.it
SUMMARY:WNE - World Nuclear Exibition
DESCRIPTION:
URL:https://edu.caen.it/event/wne-world-nuclear-exibition/
LOCATION:Paris\, France
CATEGORIES:Educational
END:VEVENT
BEGIN:VEVENT
DTSTART;TZID=Europe/Rome:20211115T080000
DTEND;TZID=Europe/Rome:20211119T170000
DTSTAMP:20260421T133347
CREATED:20211217T113653Z
LAST-MODIFIED:20211217T114715Z
UID:8270-1636963200-1637341200@edu.caen.it
SUMMARY:PID-LNL Programma INFN per Docenti 
DESCRIPTION:
URL:https://edu.caen.it/event/pid-lnl-programma-infn-per-docenti/
LOCATION:Laboratori Nazionali Legnaro INFN\, Italy
CATEGORIES:Educational
END:VEVENT
BEGIN:VEVENT
DTSTART;VALUE=DATE:20210928
DTEND;VALUE=DATE:20210929
DTSTAMP:20260421T133347
CREATED:20211217T113501Z
LAST-MODIFIED:20211217T114718Z
UID:8266-1632787200-1632873599@edu.caen.it
SUMMARY:CAEN Educational Training at Aix Marseille University 
DESCRIPTION:
URL:https://edu.caen.it/event/caen-educational-training-at-aix-marseille-university/
LOCATION:Marseille\, France
CATEGORIES:Educational
END:VEVENT
BEGIN:VEVENT
DTSTART;TZID=Europe/Rome:20201109T080000
DTEND;TZID=Europe/Rome:20201110T170000
DTSTAMP:20260421T133347
CREATED:20211217T113348Z
LAST-MODIFIED:20211217T114722Z
UID:8263-1604908800-1605027600@edu.caen.it
SUMMARY:Developments in Physics Teaching and Learning in Higher Education During the Last 100 Years 
DESCRIPTION:
URL:https://edu.caen.it/event/developments-in-physics-teaching-and-learning-in-higher-education-during-the-last-100-years/
LOCATION:Online Conference
CATEGORIES:Educational
END:VEVENT
BEGIN:VEVENT
DTSTART;VALUE=DATE:20200924
DTEND;VALUE=DATE:20200925
DTSTAMP:20260421T133347
CREATED:20211217T113203Z
LAST-MODIFIED:20211217T114725Z
UID:8260-1600905600-1600991999@edu.caen.it
SUMMARY:Praktikumsleitertagung (PLT 2020) 
DESCRIPTION:
URL:https://edu.caen.it/event/praktikumsleitertagung-plt-2020/
LOCATION:Online Event\, Online Event - Christian-Albrechts-Universität
CATEGORIES:Educational
END:VEVENT
BEGIN:VEVENT
DTSTART;TZID=Europe/Rome:20191128T080000
DTEND;TZID=Europe/Rome:20191130T170000
DTSTAMP:20260421T133347
CREATED:20211217T112942Z
LAST-MODIFIED:20211217T114729Z
UID:8258-1574928000-1575133200@edu.caen.it
SUMMARY:18th IPPOG meeting at CERN
DESCRIPTION:
URL:https://edu.caen.it/event/18th-ippog-meeting-at-cern/
LOCATION:CERN\, CERN
CATEGORIES:Educational
END:VEVENT
BEGIN:VEVENT
DTSTART;TZID=Europe/Rome:20190522T080000
DTEND;TZID=Europe/Rome:20190525T170000
DTSTAMP:20260421T133347
CREATED:20211217T112752Z
LAST-MODIFIED:20211217T114733Z
UID:8255-1558512000-1558803600@edu.caen.it
SUMMARY:17th IPPOG meeting GSI-FAIR
DESCRIPTION: 
URL:https://edu.caen.it/event/17th-ippog-meeting-gsi-fair/
LOCATION:GSI-FAIR\, GSI-FAIR
CATEGORIES:Educational
END:VEVENT
BEGIN:VEVENT
DTSTART;TZID=Europe/Rome:20181004T080000
DTEND;TZID=Europe/Rome:20181006T170000
DTSTAMP:20260421T133347
CREATED:20211217T112619Z
LAST-MODIFIED:20211217T114737Z
UID:8252-1538640000-1538845200@edu.caen.it
SUMMARY:16th IPPOG meeting at CERN
DESCRIPTION:
URL:https://edu.caen.it/event/16th-ippog-meeting-at-cern/
LOCATION:CERN\, CERN
CATEGORIES:Educational
END:VEVENT
BEGIN:VEVENT
DTSTART;TZID=Europe/Rome:20181001T080000
DTEND;TZID=Europe/Rome:20181005T170000
DTSTAMP:20260421T133347
CREATED:20211217T112405Z
LAST-MODIFIED:20211217T114741Z
UID:8248-1538380800-1538758800@edu.caen.it
SUMMARY:International Conference on Physics Education - ICPE-SAIPE WITS 2018
DESCRIPTION:
URL:https://edu.caen.it/event/international-conference-on-physics-education-icpe-saipe-wits-2018/
LOCATION:South Africa\, Johannesburg\, South Africa
CATEGORIES:Educational
END:VEVENT
BEGIN:VEVENT
DTSTART;TZID=Europe/Rome:20180725T080000
DTEND;TZID=Europe/Rome:20180727T170000
DTSTAMP:20260421T133347
CREATED:20211217T143142Z
LAST-MODIFIED:20211217T150003Z
UID:8334-1532505600-1532710800@edu.caen.it
SUMMARY:Conference on Laboratory Instruction Beyond the First Year (BFY III) 2018
DESCRIPTION:
URL:https://edu.caen.it/event/conference-on-laboratory-instruction-beyond-the-first-year-bfy-iii-2018/
LOCATION:Baltimore\, Baltimore\, MD\, US
CATEGORIES:Educational
END:VEVENT
BEGIN:VEVENT
DTSTART;TZID=Europe/Rome:20180707T080000
DTEND;TZID=Europe/Rome:20180717T170000
DTSTAMP:20260421T133347
CREATED:20211217T112101Z
LAST-MODIFIED:20211217T115543Z
UID:8243-1530950400-1531846800@edu.caen.it
SUMMARY:IEEE NPSS International School for Real Time Systems in Particle Physics 2018
DESCRIPTION:IEEE NPSS International School for Real Time Systems in Particle Physics 2018
URL:https://edu.caen.it/event/ieee-npss-international-school-for-real-time-systems-in-particle-physics-2018/
LOCATION:Cape Town\, iThemba LABS - Cape Town
CATEGORIES:Educational
END:VEVENT
BEGIN:VEVENT
DTSTART;TZID=Europe/Rome:20180312T080000
DTEND;TZID=Europe/Rome:20180316T170000
DTSTAMP:20260421T133347
CREATED:20211217T111614Z
LAST-MODIFIED:20211217T114748Z
UID:8239-1520841600-1521219600@edu.caen.it
SUMMARY:PRISMA SCHOOL 2018 Photosensors and Signal Processing in Particle Detectors
DESCRIPTION:PRISMA SCHOOL 2018 – Photosensors and Signal Processing in Particle Detectors
URL:https://edu.caen.it/event/prisma-school-2018-photosensors-and-signal-processing-in-particle-detectors/
LOCATION:Mainz\, Mainz\, Germany
CATEGORIES:Educational
END:VEVENT
BEGIN:VEVENT
DTSTART;TZID=Europe/Rome:20171218T080000
DTEND;TZID=Europe/Rome:20171221T170000
DTSTAMP:20260421T133347
CREATED:20211217T105343Z
LAST-MODIFIED:20211217T114752Z
UID:8221-1513584000-1513875600@edu.caen.it
SUMMARY:AAPT Winter Meeting  
DESCRIPTION:
URL:https://edu.caen.it/event/aapt-winter-meeting/
LOCATION:Atlanta\, Atlanta\, Georgia (US)
CATEGORIES:Educational
END:VEVENT
BEGIN:VEVENT
DTSTART;TZID=Europe/Rome:20170428T080000
DTEND;TZID=Europe/Rome:20170504T170000
DTSTAMP:20260421T133347
CREATED:20211217T111418Z
LAST-MODIFIED:20211217T115551Z
UID:8236-1493366400-1493917200@edu.caen.it
SUMMARY:International School of Fusion Reactors Technology
DESCRIPTION:16th Course: Diagnostics and Technology Developments in view of ITER and DEMO
URL:https://edu.caen.it/event/international-school-of-fusion-reactors-technology/
LOCATION:Erice\, Erice\, Italy
CATEGORIES:Educational
END:VEVENT
BEGIN:VEVENT
DTSTART;VALUE=DATE:20170403
DTEND;VALUE=DATE:20170404
DTSTAMP:20260421T133347
CREATED:20211217T105553Z
LAST-MODIFIED:20211217T114801Z
UID:8223-1491177600-1491263999@edu.caen.it
SUMMARY:High School Career Day (LNF Frascati)
DESCRIPTION:
URL:https://edu.caen.it/event/high-school-career-day/
LOCATION:LNF Frascati\, Frascati\, Italy
CATEGORIES:Educational
END:VEVENT
END:VCALENDAR